BEGIN:VCALENDAR
VERSION:2.0
PRODID:www.hss.de
X-PUBLISHED-TTL:P1W
BEGIN:VEVENT
UID:69ea9a5ce12b5
DTSTART:20250416T170000Z
SEQUENCE:0
TRANSP:OPAQUE
DTEND:20250416T190000Z
LOCATION:München
SUMMARY:1945 - 2025: 80 Jahre Kriegsende - Eine Erinnerung
CLASS:PUBLIC
DESCRIPTION:Veranstaltung: https://www.hss.de/veranstaltungen/1945-2025-80-
 jahre-kriegsende-eine-erinnerung-3250306006/\nMeine Veranstaltungen: https
 ://www.hss.de/meine-veranstaltungen/
DTSTAMP:20260423T221701Z
END:VEVENT
END:VCALENDAR