BEGIN:VCALENDAR
VERSION:2.0
PRODID:www.hss.de
X-PUBLISHED-TTL:P1W
BEGIN:VEVENT
UID:69e8a9d9a8549
DTSTART:20210626T065000Z
SEQUENCE:0
TRANSP:OPAQUE
DTEND:20210626T150000Z
LOCATION:HSSdigital
SUMMARY:3. THEMENTAG Digitale Finanz- und Wirtschaftswelt
CLASS:PUBLIC
DESCRIPTION:Veranstaltung: https://www.hss.de/veranstaltungen/3-thementag-d
 igitale-finanz-und-wirtschaftswelt-3210302920/\nMeine Veranstaltungen: htt
 ps://www.hss.de/meine-veranstaltungen/
DTSTAMP:20260422T105834Z
END:VEVENT
END:VCALENDAR