BEGIN:VCALENDAR
VERSION:2.0
PRODID:www.hss.de
X-PUBLISHED-TTL:P1W
BEGIN:VEVENT
UID:69eb8402552c3
DTSTART:20230131T180000Z
SEQUENCE:0
TRANSP:OPAQUE
DTEND:20230131T200000Z
LOCATION:Nürnberg
SUMMARY:60 Jahre Élysée-Vertrag – Herausforderungen für eine europäis
 che Erfolgsgeschichte
CLASS:PUBLIC
DESCRIPTION:Veranstaltung: https://www.hss.de/veranstaltungen/60-jahre-elys
 ee-vertrag-herausforderungen-fuer-eine-europaeische-erfolgsgeschichte-3230
 306132/\nMeine Veranstaltungen: https://www.hss.de/meine-veranstaltungen/
DTSTAMP:20260424T145354Z
END:VEVENT
END:VCALENDAR