BEGIN:VCALENDAR
VERSION:2.0
PRODID:www.hss.de
X-PUBLISHED-TTL:P1W
BEGIN:VEVENT
UID:69e4d8073e26c
DTSTART:20260328T083000Z
SEQUENCE:0
TRANSP:OPAQUE
DTEND:20260328T133000Z
LOCATION:Bayreuth
SUMMARY:Älter werdende Gesellschaft und Pflege – was bedeutet das für u
 ns?
CLASS:PUBLIC
DESCRIPTION:Veranstaltung: https://www.hss.de/veranstaltungen/aelter-werden
 de-gesellschaft-und-pflege-was-bedeutet-das-fuer-uns-3260302504/\nMeine Ve
 ranstaltungen: https://www.hss.de/meine-veranstaltungen/
DTSTAMP:20260419T132631Z
END:VEVENT
END:VCALENDAR