BEGIN:VCALENDAR
VERSION:2.0
PRODID:www.hss.de
X-PUBLISHED-TTL:P1W
BEGIN:VEVENT
UID:69e902b1b3668
DTSTART:20260205T160000Z
SEQUENCE:0
TRANSP:OPAQUE
DTEND:20260208T123000Z
LOCATION:Bad Staffelstein
SUMMARY:Akademie Texten fürs Sprechen 
CLASS:PUBLIC
DESCRIPTION:Veranstaltung: https://www.hss.de/veranstaltungen/akademie-text
 en-fuers-sprechen-3260407001/\nMeine Veranstaltungen: https://www.hss.de/m
 eine-veranstaltungen/
DTSTAMP:20260422T171737Z
END:VEVENT
END:VCALENDAR