BEGIN:VCALENDAR
VERSION:2.0
PRODID:www.hss.de
X-PUBLISHED-TTL:P1W
BEGIN:VEVENT
UID:69e80ee1421ff
DTSTART:20240731T170000Z
SEQUENCE:0
TRANSP:OPAQUE
DTEND:20240731T180000Z
LOCATION:HSSdigital
SUMMARY:Aktuelle Entwicklungen im US-Wahlkampf
CLASS:PUBLIC
DESCRIPTION:Veranstaltung: https://www.hss.de/veranstaltungen/aktuelle-entw
 icklungen-im-us-wahlkampf-3240306241/\nMeine Veranstaltungen: https://www.
 hss.de/meine-veranstaltungen/
DTSTAMP:20260421T235721Z
END:VEVENT
END:VCALENDAR