BEGIN:VCALENDAR
VERSION:2.0
PRODID:www.hss.de
X-PUBLISHED-TTL:P1W
BEGIN:VEVENT
UID:69e5918de8e96
DTSTART:20261202T173000Z
SEQUENCE:0
TRANSP:OPAQUE
DTEND:20261202T190000Z
LOCATION:HSSdigital
SUMMARY:Alltag mit Demenz - Pflege\, Kommunikation und Entlastung
CLASS:PUBLIC
DESCRIPTION:Veranstaltung: https://www.hss.de/veranstaltungen/alltag-mit-de
 menz-pflege-kommunikation-und-entlastung-3260302828/\nMeine Veranstaltunge
 n: https://www.hss.de/meine-veranstaltungen/
DTSTAMP:20260420T023806Z
END:VEVENT
END:VCALENDAR