BEGIN:VCALENDAR
VERSION:2.0
PRODID:www.hss.de
X-PUBLISHED-TTL:P1W
BEGIN:VEVENT
UID:69e618b4c12bb
DTSTART:20241026T080000Z
SEQUENCE:0
TRANSP:OPAQUE
DTEND:20241026T150000Z
LOCATION:München
SUMMARY:Als Frau in der Politik bestehen
CLASS:PUBLIC
DESCRIPTION:Veranstaltung: https://www.hss.de/veranstaltungen/als-frau-in-d
 er-politik-bestehen-3240307915/\nMeine Veranstaltungen: https://www.hss.de
 /meine-veranstaltungen/
DTSTAMP:20260420T121444Z
END:VEVENT
END:VCALENDAR