BEGIN:VCALENDAR
VERSION:2.0
PRODID:www.hss.de
X-PUBLISHED-TTL:P1W
BEGIN:VEVENT
UID:69e8f1092a709
DTSTART:20240503T153000Z
SEQUENCE:0
TRANSP:OPAQUE
DTEND:20240505T110000Z
LOCATION:Bad Staffelstein
SUMMARY:Altbayern und Europa
CLASS:PUBLIC
DESCRIPTION:Veranstaltung: https://www.hss.de/veranstaltungen/altbayern-und
 -europa-3240305305/\nMeine Veranstaltungen: https://www.hss.de/meine-veran
 staltungen/
DTSTAMP:20260422T160217Z
END:VEVENT
END:VCALENDAR