BEGIN:VCALENDAR
VERSION:2.0
PRODID:www.hss.de
X-PUBLISHED-TTL:P1W
BEGIN:VEVENT
UID:69e50af56b39c
DTSTART:20241107T170000Z
SEQUENCE:0
TRANSP:OPAQUE
DTEND:20241107T190000Z
LOCATION:HSSdigital
SUMMARY:Antisemitisches Gedankengut im Bereich der rechten Esoterik
CLASS:PUBLIC
DESCRIPTION:Veranstaltung: https://www.hss.de/veranstaltungen/antisemitisch
 es-gedankengut-im-bereich-der-rechten-esoterik-3240303340/\nMeine Veransta
 ltungen: https://www.hss.de/meine-veranstaltungen/
DTSTAMP:20260419T170349Z
END:VEVENT
END:VCALENDAR