BEGIN:VCALENDAR
VERSION:2.0
PRODID:www.hss.de
X-PUBLISHED-TTL:P1W
BEGIN:VEVENT
UID:69e6211ca8375
DTSTART:20250708T153000Z
SEQUENCE:0
TRANSP:OPAQUE
DTEND:20250708T173000Z
LOCATION:München
SUMMARY:Argentinien im Fokus - Entwicklung seit dem Amtsantritt Mileis
CLASS:PUBLIC
DESCRIPTION:Veranstaltung: https://www.hss.de/veranstaltungen/argentinien-i
 m-fokus-entwicklung-seit-dem-amtsantritt-mileis-5250524001/\nMeine Veranst
 altungen: https://www.hss.de/meine-veranstaltungen/
DTSTAMP:20260420T125036Z
END:VEVENT
END:VCALENDAR