BEGIN:VCALENDAR
VERSION:2.0
PRODID:www.hss.de
X-PUBLISHED-TTL:P1W
BEGIN:VEVENT
UID:69e8ee5023c3f
DTSTART:20260424T153000Z
SEQUENCE:0
TRANSP:OPAQUE
DTEND:20260426T110000Z
LOCATION:Bad Staffelstein
SUMMARY:Auf der ewigen Suche nach dem Frieden - Friedenskonferenzen als Kon
 zeptionen der Neuordnung vom Wiener Kongress bis heute 
CLASS:PUBLIC
DESCRIPTION:Veranstaltung: https://www.hss.de/veranstaltungen/auf-der-ewige
 n-suche-nach-dem-frieden-friedenskonferenzen-als-konzeptionen-der-neuordnu
 ng-vom-wiener-kongress-bis-heute-3260305303/\nMeine Veranstaltungen: https
 ://www.hss.de/meine-veranstaltungen/
DTSTAMP:20260422T155040Z
END:VEVENT
END:VCALENDAR