BEGIN:VCALENDAR
VERSION:2.0
PRODID:www.hss.de
X-PUBLISHED-TTL:P1W
BEGIN:VEVENT
UID:69e6f52dedf89
DTSTART:20230622T170000Z
SEQUENCE:0
TRANSP:OPAQUE
DTEND:20230622T190000Z
LOCATION:München
SUMMARY:Aufstand für die Freiheit - Was wir aus dem 17. Juni 1953 lernen k
 önnen
CLASS:PUBLIC
DESCRIPTION:Veranstaltung: https://www.hss.de/veranstaltungen/aufstand-fuer
 -die-freiheit-was-wir-aus-dem-17-juni-1953-lernen-koennen-3230303203/\nMei
 ne Veranstaltungen: https://www.hss.de/meine-veranstaltungen/
DTSTAMP:20260421T035526Z
END:VEVENT
END:VCALENDAR