BEGIN:VCALENDAR
VERSION:2.0
PRODID:www.hss.de
X-PUBLISHED-TTL:P1W
BEGIN:VEVENT
UID:69e71d6bb0156
DTSTART:20231214T180000Z
SEQUENCE:0
TRANSP:OPAQUE
DTEND:20231214T190000Z
LOCATION:HSSdigital
SUMMARY:B – wie Binnenmarkt
CLASS:PUBLIC
DESCRIPTION:Veranstaltung: https://www.hss.de/veranstaltungen/b-wie-binnenm
 arkt-3230300202/\nMeine Veranstaltungen: https://www.hss.de/meine-veransta
 ltungen/
DTSTAMP:20260421T064707Z
END:VEVENT
END:VCALENDAR