BEGIN:VCALENDAR
VERSION:2.0
PRODID:www.hss.de
X-PUBLISHED-TTL:P1W
BEGIN:VEVENT
UID:69e4f3672e08b
DTSTART:20200918T140000Z
SEQUENCE:0
TRANSP:OPAQUE
DTEND:20200918T170000Z
LOCATION:Fahrenzhausen
SUMMARY:Bau- und Immobilienrecht für Kommunen
CLASS:PUBLIC
DESCRIPTION:Veranstaltung: https://www.hss.de/veranstaltungen/bau-und-immob
 ilienrecht-fuer-kommunen-3200309821/\nMeine Veranstaltungen: https://www.h
 ss.de/meine-veranstaltungen/
DTSTAMP:20260419T152319Z
END:VEVENT
END:VCALENDAR