BEGIN:VCALENDAR
VERSION:2.0
PRODID:www.hss.de
X-PUBLISHED-TTL:P1W
BEGIN:VEVENT
UID:69e6647183606
DTSTART:20260501T153000Z
SEQUENCE:0
TRANSP:OPAQUE
DTEND:20260503T110000Z
LOCATION:Bad Staffelstein
SUMMARY:Bayern und die deutschen Staaten im 19. Jahrhundert: Ähnlichkeiten
  und Unterschiede
CLASS:PUBLIC
DESCRIPTION:Veranstaltung: https://www.hss.de/veranstaltungen/bayern-und-di
 e-deutschen-staaten-im-19-jahrhundert-aehnlichkeiten-und-unterschiede-3260
 305304/\nMeine Veranstaltungen: https://www.hss.de/meine-veranstaltungen/
DTSTAMP:20260420T173753Z
END:VEVENT
END:VCALENDAR