BEGIN:VCALENDAR
VERSION:2.0
PRODID:www.hss.de
X-PUBLISHED-TTL:P1W
BEGIN:VEVENT
UID:69e9b54c88c56
DTSTART:20260430T170000Z
SEQUENCE:0
TRANSP:OPAQUE
DTEND:20260430T183000Z
LOCATION:München
SUMMARY:Bayern\, wie wir es sehen
CLASS:PUBLIC
DESCRIPTION:Veranstaltung: https://www.hss.de/veranstaltungen/bayern-wie-wi
 r-es-sehen-3260208001/\nMeine Veranstaltungen: https://www.hss.de/meine-ve
 ranstaltungen/
DTSTAMP:20260423T055940Z
END:VEVENT
END:VCALENDAR