BEGIN:VCALENDAR
VERSION:2.0
PRODID:www.hss.de
X-PUBLISHED-TTL:P1W
BEGIN:VEVENT
UID:69e6e71cef803
DTSTART:20251113T173000Z
SEQUENCE:0
TRANSP:OPAQUE
DTEND:20251113T185000Z
LOCATION:HSSdigital
SUMMARY:Beruflicher Druck? Umgang mit Stress in der Arbeit 
CLASS:PUBLIC
DESCRIPTION:Veranstaltung: https://www.hss.de/veranstaltungen/beruflicher-d
 ruck-umgang-mit-stress-in-der-arbeit-3250302893/\nMeine Veranstaltungen: h
 ttps://www.hss.de/meine-veranstaltungen/
DTSTAMP:20260421T025525Z
END:VEVENT
END:VCALENDAR