BEGIN:VCALENDAR
VERSION:2.0
PRODID:www.hss.de
X-PUBLISHED-TTL:P1W
BEGIN:VEVENT
UID:69ea0663a1b0c
DTSTART:20260517T153000Z
SEQUENCE:0
TRANSP:OPAQUE
DTEND:20260522T110000Z
LOCATION:Bad Staffelstein
SUMMARY:Betriebsratsarbeit für Einsteiger in das Recht der Betriebsratsarb
 eit
CLASS:PUBLIC
DESCRIPTION:Veranstaltung: https://www.hss.de/veranstaltungen/betriebsratsa
 rbeit-fuer-einsteiger-in-das-recht-der-betriebsratsarbeit-3260305702/\nMei
 ne Veranstaltungen: https://www.hss.de/meine-veranstaltungen/
DTSTAMP:20260423T114539Z
END:VEVENT
END:VCALENDAR