BEGIN:VCALENDAR
VERSION:2.0
PRODID:www.hss.de
X-PUBLISHED-TTL:P1W
BEGIN:VEVENT
UID:69e931e46bb48
DTSTART:20240422T160000Z
SEQUENCE:0
TRANSP:OPAQUE
DTEND:20240422T173000Z
LOCATION:HSSdigital
SUMMARY:Bewerbungstraining - das Bewerbungsgespräch
CLASS:PUBLIC
DESCRIPTION:Veranstaltung: https://www.hss.de/veranstaltungen/bewerbungstra
 ining-das-bewerbungsgespraech-3240307909/\nMeine Veranstaltungen: https://
 www.hss.de/meine-veranstaltungen/
DTSTAMP:20260422T203900Z
END:VEVENT
END:VCALENDAR