BEGIN:VCALENDAR
VERSION:2.0
PRODID:www.hss.de
X-PUBLISHED-TTL:P1W
BEGIN:VEVENT
UID:69e9cb545f69b
DTSTART:20261009T120000Z
SEQUENCE:0
TRANSP:OPAQUE
DTEND:20261009T140000Z
LOCATION:München
SUMMARY:Bibliolog: Vorsorge ohne Missbrauch
CLASS:PUBLIC
DESCRIPTION:Veranstaltung: https://www.hss.de/veranstaltungen/bibliolog-vor
 sorge-ohne-missbrauch-3260303106/\nMeine Veranstaltungen: https://www.hss.
 de/meine-veranstaltungen/
DTSTAMP:20260423T073340Z
END:VEVENT
END:VCALENDAR