BEGIN:VCALENDAR
VERSION:2.0
PRODID:www.hss.de
X-PUBLISHED-TTL:P1W
BEGIN:VEVENT
UID:69ea7d999501d
DTSTART:20260323T183000Z
SEQUENCE:0
TRANSP:OPAQUE
DTEND:20260323T193000Z
LOCATION:HSSdigital
SUMMARY:Blick in die Welt: Israel
CLASS:PUBLIC
DESCRIPTION:Veranstaltung: https://www.hss.de/veranstaltungen/blick-in-die-
 welt-israel-3260304601/\nMeine Veranstaltungen: https://www.hss.de/meine-v
 eranstaltungen/
DTSTAMP:20260423T201417Z
END:VEVENT
END:VCALENDAR