BEGIN:VCALENDAR
VERSION:2.0
PRODID:www.hss.de
X-PUBLISHED-TTL:P1W
BEGIN:VEVENT
UID:69e5378ff1a05
DTSTART:20240722T160000Z
SEQUENCE:0
TRANSP:OPAQUE
DTEND:20240722T180000Z
LOCATION:HSSdigital
SUMMARY:Claus Schenk Graf von Stauffenberg: Mut\, Moral und Widerstand im A
 ngesicht des Bösen
CLASS:PUBLIC
DESCRIPTION:Veranstaltung: https://www.hss.de/veranstaltungen/claus-schenk-
 graf-von-stauffenberg-mut-moral-und-widerstand-im-angesicht-des-boesen-324
 0306225/\nMeine Veranstaltungen: https://www.hss.de/meine-veranstaltungen/
DTSTAMP:20260419T201408Z
END:VEVENT
END:VCALENDAR