BEGIN:VCALENDAR
VERSION:2.0
PRODID:www.hss.de
X-PUBLISHED-TTL:P1W
BEGIN:VEVENT
UID:69e55eb65b128
DTSTART:20260507T103000Z
SEQUENCE:0
TRANSP:OPAQUE
DTEND:20260507T120000Z
LOCATION:München
SUMMARY: Cyber-Sicherheit für Unternehmen schaffen 
CLASS:PUBLIC
DESCRIPTION:Veranstaltung: https://www.hss.de/veranstaltungen/cyber-sicherh
 eit-fuer-unternehmen-schaffen-3260203001/\nMeine Veranstaltungen: https://
 www.hss.de/meine-veranstaltungen/
DTSTAMP:20260419T230110Z
END:VEVENT
END:VCALENDAR