BEGIN:VCALENDAR
VERSION:2.0
PRODID:www.hss.de
X-PUBLISHED-TTL:P1W
BEGIN:VEVENT
UID:69eb23377b7bb
DTSTART:20240702T170000Z
SEQUENCE:0
TRANSP:OPAQUE
DTEND:20240702T170000Z
LOCATION:HSSdigital
SUMMARY:Cyber- und Informationsoperationen im Kontext des Ukrainekriegs: Im
 plikationen für Deutschland
CLASS:PUBLIC
DESCRIPTION:Veranstaltung: https://www.hss.de/veranstaltungen/cyber-und-inf
 ormationsoperationen-im-kontext-des-ukrainekriegs-implikationen-fuer-deuts
 chland-3240300046/\nMeine Veranstaltungen: https://www.hss.de/meine-verans
 taltungen/
DTSTAMP:20260424T080055Z
END:VEVENT
END:VCALENDAR