BEGIN:VCALENDAR
VERSION:2.0
PRODID:www.hss.de
X-PUBLISHED-TTL:P1W
BEGIN:VEVENT
UID:69ebe38d35eab
DTSTART:20260226T083000Z
SEQUENCE:0
TRANSP:OPAQUE
DTEND:20260227T150000Z
LOCATION:Bad Staffelstein
SUMMARY:Cybersicher in die KI-Gegenwart
CLASS:PUBLIC
DESCRIPTION:Veranstaltung: https://www.hss.de/veranstaltungen/cybersicher-i
 n-die-ki-gegenwart-3260302005/\nMeine Veranstaltungen: https://www.hss.de/
 meine-veranstaltungen/
DTSTAMP:20260424T214133Z
END:VEVENT
END:VCALENDAR