BEGIN:VCALENDAR
VERSION:2.0
PRODID:www.hss.de
X-PUBLISHED-TTL:P1W
BEGIN:VEVENT
UID:69e610a787525
DTSTART:20240509T130000Z
SEQUENCE:0
TRANSP:OPAQUE
DTEND:20240512T110000Z
LOCATION:Bad Staffelstein
SUMMARY:Das lange Russland-Wochenende
CLASS:PUBLIC
DESCRIPTION:Veranstaltung: https://www.hss.de/veranstaltungen/das-lange-rus
 sland-wochenende-3240306006/\nMeine Veranstaltungen: https://www.hss.de/me
 ine-veranstaltungen/
DTSTAMP:20260420T114023Z
END:VEVENT
END:VCALENDAR