BEGIN:VCALENDAR
VERSION:2.0
PRODID:www.hss.de
X-PUBLISHED-TTL:P1W
BEGIN:VEVENT
UID:69e9d4869c0af
DTSTART:20251017T153000Z
SEQUENCE:0
TRANSP:OPAQUE
DTEND:20251019T110000Z
LOCATION:Bad Staffelstein
SUMMARY:Das Leben an der Seite des Herrschers: Bayerische Königinnen und P
 rinzessinnen des 19. Jahrhunderts
CLASS:PUBLIC
DESCRIPTION:Veranstaltung: https://www.hss.de/veranstaltungen/das-leben-an-
 der-seite-des-herrschers-bayerische-koeniginnen-und-prinzessinnen-des-19-j
 ahrhunderts-3250305607/\nMeine Veranstaltungen: https://www.hss.de/meine-v
 eranstaltungen/
DTSTAMP:20260423T081254Z
END:VEVENT
END:VCALENDAR