BEGIN:VCALENDAR
VERSION:2.0
PRODID:www.hss.de
X-PUBLISHED-TTL:P1W
BEGIN:VEVENT
UID:69e4de07a2585
DTSTART:20250123T170000Z
SEQUENCE:0
TRANSP:OPAQUE
DTEND:20250123T190000Z
LOCATION:HSSdigital
SUMMARY:Deine erste Bundestagswahl: Alles über Parteien\, Mandate und Mehr
 heiten
CLASS:PUBLIC
DESCRIPTION:Veranstaltung: https://www.hss.de/veranstaltungen/deine-erste-b
 undestagswahl-alles-ueber-parteien-mandate-und-mehrheiten-3250303327/\nMei
 ne Veranstaltungen: https://www.hss.de/meine-veranstaltungen/
DTSTAMP:20260419T135207Z
END:VEVENT
END:VCALENDAR