BEGIN:VCALENDAR
VERSION:2.0
PRODID:www.hss.de
X-PUBLISHED-TTL:P1W
BEGIN:VEVENT
UID:69e5f96e9a425
DTSTART:20260424T170000Z
SEQUENCE:0
TRANSP:OPAQUE
DTEND:20260426T100000Z
LOCATION:Bad Staffelstein
SUMMARY:Demographie & Pflege: Herausforderungen und Perspektiven für Angeh
 örige und die Sozialpolitik
CLASS:PUBLIC
DESCRIPTION:Veranstaltung: https://www.hss.de/veranstaltungen/demographie-p
 flege-herausforderungen-und-perspektiven-fuer-angehoerige-und-die-sozialpo
 litik-3260302008/\nMeine Veranstaltungen: https://www.hss.de/meine-veranst
 altungen/
DTSTAMP:20260420T100118Z
END:VEVENT
END:VCALENDAR