BEGIN:VCALENDAR
VERSION:2.0
PRODID:www.hss.de
X-PUBLISHED-TTL:P1W
BEGIN:VEVENT
UID:69e6c34976628
DTSTART:20260428T153000Z
SEQUENCE:0
TRANSP:OPAQUE
DTEND:20260428T170000Z
LOCATION:München
SUMMARY:Demokratie braucht Erinnerung - Von der Notwendigkeit\, Gedenken ne
 u zu denken
CLASS:PUBLIC
DESCRIPTION:Veranstaltung: https://www.hss.de/veranstaltungen/demokratie-br
 aucht-erinnerung-von-der-notwendigkeit-gedenken-neu-zu-denken-3260303200/\
 nMeine Veranstaltungen: https://www.hss.de/meine-veranstaltungen/
DTSTAMP:20260421T002233Z
END:VEVENT
END:VCALENDAR