BEGIN:VCALENDAR
VERSION:2.0
PRODID:www.hss.de
X-PUBLISHED-TTL:P1W
BEGIN:VEVENT
UID:69e7e260af0d4
DTSTART:20260427T150000Z
SEQUENCE:0
TRANSP:OPAQUE
DTEND:20260427T170000Z
LOCATION:München
SUMMARY:Demokratie – ohne Demokraten? Kernelemente einer freiheitlichen D
 emokratie
CLASS:PUBLIC
DESCRIPTION:Veranstaltung: https://www.hss.de/veranstaltungen/demokratie-oh
 ne-demokraten-kernelemente-einer-freiheitlichen-demokratie-3260304198/\nMe
 ine Veranstaltungen: https://www.hss.de/meine-veranstaltungen/
DTSTAMP:20260421T204728Z
END:VEVENT
END:VCALENDAR