BEGIN:VCALENDAR
VERSION:2.0
PRODID:www.hss.de
X-PUBLISHED-TTL:P1W
BEGIN:VEVENT
UID:69e5cf9836507
DTSTART:20260911T160000Z
SEQUENCE:0
TRANSP:OPAQUE
DTEND:20260913T110000Z
LOCATION:Bad Staffelstein
SUMMARY:Demokratie vor Ort erleben
CLASS:PUBLIC
DESCRIPTION:Veranstaltung: https://www.hss.de/veranstaltungen/demokratie-vo
 r-ort-erleben-3260303017/\nMeine Veranstaltungen: https://www.hss.de/meine
 -veranstaltungen/
DTSTAMP:20260420T070248Z
END:VEVENT
END:VCALENDAR