BEGIN:VCALENDAR
VERSION:2.0
PRODID:www.hss.de
X-PUBLISHED-TTL:P1W
BEGIN:VEVENT
UID:69e8749a46098
DTSTART:20260508T153000Z
SEQUENCE:0
TRANSP:OPAQUE
DTEND:20260510T110000Z
LOCATION:Bad Staffelstein
SUMMARY:Denkmalpflege als gemeinsame Aufgabe für Staat und Gesellschaft
CLASS:PUBLIC
DESCRIPTION:Veranstaltung: https://www.hss.de/veranstaltungen/denkmalpflege
 -als-gemeinsame-aufgabe-fuer-staat-und-gesellschaft-3260305601/\nMeine Ver
 anstaltungen: https://www.hss.de/meine-veranstaltungen/
DTSTAMP:20260422T071122Z
END:VEVENT
END:VCALENDAR