BEGIN:VCALENDAR
VERSION:2.0
PRODID:www.hss.de
X-PUBLISHED-TTL:P1W
BEGIN:VEVENT
UID:69e762ce8ac82
DTSTART:20260504T140000Z
SEQUENCE:0
TRANSP:OPAQUE
DTEND:20260504T160000Z
LOCATION:München
SUMMARY:Der blinde Fleck - Die vererbten Traumata des Krieges – und warum
  das Schweigen in den Familien jetzt aufbricht
CLASS:PUBLIC
DESCRIPTION:Veranstaltung: https://www.hss.de/veranstaltungen/der-blinde-fl
 eck-die-vererbten-traumata-des-krieges-und-warum-das-schweigen-in-den-fami
 lien-jetzt-aufbricht-3260303111/\nMeine Veranstaltungen: https://www.hss.d
 e/meine-veranstaltungen/
DTSTAMP:20260421T114310Z
END:VEVENT
END:VCALENDAR