BEGIN:VCALENDAR
VERSION:2.0
PRODID:www.hss.de
X-PUBLISHED-TTL:P1W
BEGIN:VEVENT
UID:69ea40421d1f1
DTSTART:20231004T160000Z
SEQUENCE:0
TRANSP:OPAQUE
DTEND:20231004T180000Z
LOCATION:München
SUMMARY:Der Einfluss von Digitalisierung auf die Kinder- und Jugendliteratu
 r
CLASS:PUBLIC
DESCRIPTION:Veranstaltung: https://www.hss.de/veranstaltungen/der-einfluss-
 von-digitalisierung-auf-die-kinder-und-jugendliteratur-3230204007/\nMeine 
 Veranstaltungen: https://www.hss.de/meine-veranstaltungen/
DTSTAMP:20260423T155234Z
END:VEVENT
END:VCALENDAR