BEGIN:VCALENDAR
VERSION:2.0
PRODID:www.hss.de
X-PUBLISHED-TTL:P1W
BEGIN:VEVENT
UID:69e5a10030f6b
DTSTART:20220729T150000Z
SEQUENCE:0
TRANSP:OPAQUE
DTEND:20220731T110000Z
LOCATION:Bad Staffelstein
SUMMARY:Der Krieg in Europa erfordert eine neue Sicherheitsarchitektur
CLASS:PUBLIC
DESCRIPTION:Veranstaltung: https://www.hss.de/veranstaltungen/der-krieg-in-
 europa-erfordert-eine-neue-sicherheitsarchitektur-3220306012/\nMeine Veran
 staltungen: https://www.hss.de/meine-veranstaltungen/
DTSTAMP:20260420T034400Z
END:VEVENT
END:VCALENDAR