BEGIN:VCALENDAR
VERSION:2.0
PRODID:www.hss.de
X-PUBLISHED-TTL:P1W
BEGIN:VEVENT
UID:69ebe382db214
DTSTART:20221021T160000Z
SEQUENCE:0
TRANSP:OPAQUE
DTEND:20221021T180000Z
LOCATION:HSSdigital
SUMMARY:Deutsche aus Russland - wer sind sie?
CLASS:PUBLIC
DESCRIPTION:Veranstaltung: https://www.hss.de/veranstaltungen/deutsche-aus-
 russland-wer-sind-sie-3220305125/\nMeine Veranstaltungen: https://www.hss.
 de/meine-veranstaltungen/
DTSTAMP:20260424T214123Z
END:VEVENT
END:VCALENDAR