BEGIN:VCALENDAR
VERSION:2.0
PRODID:www.hss.de
X-PUBLISHED-TTL:P1W
BEGIN:VEVENT
UID:69eaf8ff7ba78
DTSTART:20230818T160000Z
SEQUENCE:0
TRANSP:OPAQUE
DTEND:20230818T180000Z
LOCATION:Memmingen
SUMMARY:Deutschland 2030: Aufbruch in eine neue Epoche
CLASS:PUBLIC
DESCRIPTION:Veranstaltung: https://www.hss.de/veranstaltungen/deutschland-2
 030-aufbruch-in-eine-neue-epoche-3230309230/\nMeine Veranstaltungen: https
 ://www.hss.de/meine-veranstaltungen/
DTSTAMP:20260424T050047Z
END:VEVENT
END:VCALENDAR