BEGIN:VCALENDAR
VERSION:2.0
PRODID:www.hss.de
X-PUBLISHED-TTL:P1W
BEGIN:VEVENT
UID:69eb0aacc70e4
DTSTART:20230214T180000Z
SEQUENCE:0
TRANSP:OPAQUE
DTEND:20230214T190000Z
LOCATION:HSSdigital
SUMMARY:Die Agenda 2030 im Fokus: Funktioniert der globale Plan die Welt zu
  retten?
CLASS:PUBLIC
DESCRIPTION:Veranstaltung: https://www.hss.de/veranstaltungen/die-agenda-20
 30-im-fokus-funktioniert-der-globale-plan-die-welt-zu-retten-3230300101/\n
 Meine Veranstaltungen: https://www.hss.de/meine-veranstaltungen/
DTSTAMP:20260424T061613Z
END:VEVENT
END:VCALENDAR