BEGIN:VCALENDAR
VERSION:2.0
PRODID:www.hss.de
X-PUBLISHED-TTL:P1W
BEGIN:VEVENT
UID:69e6494a8a4b6
DTSTART:20240430T150000Z
SEQUENCE:0
TRANSP:OPAQUE
DTEND:20240430T150000Z
LOCATION:Kelheim
SUMMARY:Die digitale Transformation
CLASS:PUBLIC
DESCRIPTION:Veranstaltung: https://www.hss.de/veranstaltungen/die-digitale-
 transformation-3240303110/\nMeine Veranstaltungen: https://www.hss.de/mein
 e-veranstaltungen/
DTSTAMP:20260420T154202Z
END:VEVENT
END:VCALENDAR