BEGIN:VCALENDAR
VERSION:2.0
PRODID:www.hss.de
X-PUBLISHED-TTL:P1W
BEGIN:VEVENT
UID:69e64c6c91842
DTSTART:20240308T160000Z
SEQUENCE:0
TRANSP:OPAQUE
DTEND:20240310T120000Z
LOCATION:Utting am Ammersee
SUMMARY:Die Dritte Generation der RAF 1982 - 1998
CLASS:PUBLIC
DESCRIPTION:Veranstaltung: https://www.hss.de/veranstaltungen/die-dritte-ge
 neration-der-raf-1982-1998-3240303208/\nMeine Veranstaltungen: https://www
 .hss.de/meine-veranstaltungen/
DTSTAMP:20260420T155524Z
END:VEVENT
END:VCALENDAR