BEGIN:VCALENDAR
VERSION:2.0
PRODID:www.hss.de
X-PUBLISHED-TTL:P1W
BEGIN:VEVENT
UID:69ec33c297f0f
DTSTART:20260313T170000Z
SEQUENCE:0
TRANSP:OPAQUE
DTEND:20260315T130000Z
LOCATION:Bad Staffelstein
SUMMARY:Die freiheitliche Verfassung in Deutschland - Grundrechte im Spiege
 l der Zeit
CLASS:PUBLIC
DESCRIPTION:Veranstaltung: https://www.hss.de/veranstaltungen/die-freiheitl
 iche-verfassung-in-deutschland-grundrechte-im-spiegel-der-zeit-3260303004/
 \nMeine Veranstaltungen: https://www.hss.de/meine-veranstaltungen/
DTSTAMP:20260425T032346Z
END:VEVENT
END:VCALENDAR