BEGIN:VCALENDAR
VERSION:2.0
PRODID:www.hss.de
X-PUBLISHED-TTL:P1W
BEGIN:VEVENT
UID:69e793f90456c
DTSTART:20260624T160000Z
SEQUENCE:0
TRANSP:OPAQUE
DTEND:20260624T173000Z
LOCATION:HSSdigital
SUMMARY:Die Kraft des Kleinen: Nanotechnologie zwischen Forschung und Anwen
 dung
CLASS:PUBLIC
DESCRIPTION:Veranstaltung: https://www.hss.de/veranstaltungen/die-kraft-des
 -kleinen-nanotechnologie-zwischen-forschung-und-anwendung-3260301546/\nMei
 ne Veranstaltungen: https://www.hss.de/meine-veranstaltungen/
DTSTAMP:20260421T151257Z
END:VEVENT
END:VCALENDAR