BEGIN:VCALENDAR
VERSION:2.0
PRODID:www.hss.de
X-PUBLISHED-TTL:P1W
BEGIN:VEVENT
UID:69e8c7fadcf38
DTSTART:20220505T160000Z
SEQUENCE:0
TRANSP:OPAQUE
DTEND:20220505T180000Z
LOCATION:HSSdigital
SUMMARY:Die NATO – Der Ukraine-Krieg zeigt die Bedeutung des Verteidigung
 sbündnisses für Europas Sicherheit  
CLASS:PUBLIC
DESCRIPTION:Veranstaltung: https://www.hss.de/veranstaltungen/die-nato-der-
 ukraine-krieg-zeigt-die-bedeutung-des-verteidigungsbuendnisses-fuer-europa
 s-sicherheit-3220306225/\nMeine Veranstaltungen: https://www.hss.de/meine-
 veranstaltungen/
DTSTAMP:20260422T130707Z
END:VEVENT
END:VCALENDAR