BEGIN:VCALENDAR
VERSION:2.0
PRODID:www.hss.de
X-PUBLISHED-TTL:P1W
BEGIN:VEVENT
UID:69e5309c72faf
DTSTART:20260417T170000Z
SEQUENCE:0
TRANSP:OPAQUE
DTEND:20260417T183000Z
LOCATION:Wassertrüdingen
SUMMARY:Die Rolle von Frankreich und Deutschland als Stabilitätsfaktor
CLASS:PUBLIC
DESCRIPTION:Veranstaltung: https://www.hss.de/veranstaltungen/die-rolle-von
 -frankreich-und-deutschland-als-stabilitaetsfaktor-3260309505/\nMeine Vera
 nstaltungen: https://www.hss.de/meine-veranstaltungen/
DTSTAMP:20260419T194428Z
END:VEVENT
END:VCALENDAR