BEGIN:VCALENDAR
VERSION:2.0
PRODID:www.hss.de
X-PUBLISHED-TTL:P1W
BEGIN:VEVENT
UID:69e8ed5dec58b
DTSTART:20260416T170000Z
SEQUENCE:0
TRANSP:OPAQUE
DTEND:20260416T190000Z
LOCATION:Lauf
SUMMARY:Die Rolle von Frankreich und Deutschland in Europa und in der Welt
CLASS:PUBLIC
DESCRIPTION:Veranstaltung: https://www.hss.de/veranstaltungen/die-rolle-von
 -frankreich-und-deutschland-in-europa-und-in-der-welt-3260309108/\nMeine V
 eranstaltungen: https://www.hss.de/meine-veranstaltungen/
DTSTAMP:20260422T154638Z
END:VEVENT
END:VCALENDAR