BEGIN:VCALENDAR
VERSION:2.0
PRODID:www.hss.de
X-PUBLISHED-TTL:P1W
BEGIN:VEVENT
UID:69e8d21798bbd
DTSTART:20230424T160000Z
SEQUENCE:0
TRANSP:OPAQUE
DTEND:20230424T180000Z
LOCATION:München
SUMMARY:Die Umsetzer. Ohne Handwerk keine Energiewende
CLASS:PUBLIC
DESCRIPTION:Veranstaltung: https://www.hss.de/veranstaltungen/die-umsetzer-
 ohne-handwerk-keine-energiewende-3230203002/\nMeine Veranstaltungen: https
 ://www.hss.de/meine-veranstaltungen/
DTSTAMP:20260422T135015Z
END:VEVENT
END:VCALENDAR