BEGIN:VCALENDAR
VERSION:2.0
PRODID:www.hss.de
X-PUBLISHED-TTL:P1W
BEGIN:VEVENT
UID:69e9a2817b396
DTSTART:20250213T150000Z
SEQUENCE:0
TRANSP:OPAQUE
DTEND:20250213T163000Z
LOCATION:München
SUMMARY:Die Zukunft der Internationalen Kooperation: Europas Partnerschafte
 n mit dem globalen Süden
CLASS:PUBLIC
DESCRIPTION:Veranstaltung: https://www.hss.de/veranstaltungen/die-zukunft-d
 er-internationalen-kooperation-europas-partnerschaften-mit-dem-globalen-su
 eden-5250523001/\nMeine Veranstaltungen: https://www.hss.de/meine-veransta
 ltungen/
DTSTAMP:20260423T043929Z
END:VEVENT
END:VCALENDAR