BEGIN:VCALENDAR
VERSION:2.0
PRODID:www.hss.de
X-PUBLISHED-TTL:P1W
BEGIN:VEVENT
UID:69e5cfbfdd506
DTSTART:20260924T160000Z
SEQUENCE:0
TRANSP:OPAQUE
DTEND:20260924T173000Z
LOCATION:HSSdigital
SUMMARY:Die Zukunft der Welternährung
CLASS:PUBLIC
DESCRIPTION:Veranstaltung: https://www.hss.de/veranstaltungen/die-zukunft-d
 er-welternaehrung-3260301549/\nMeine Veranstaltungen: https://www.hss.de/m
 eine-veranstaltungen/
DTSTAMP:20260420T070328Z
END:VEVENT
END:VCALENDAR